BEGIN:VCALENDAR
VERSION:2.0
PRODID:spatie/icalendar-generator
DESCRIPTION:Events from Westford Sportsmen&amp;#039\;s Club\, Inc.
X-WR-CALDESC:Events from Westford Sportsmen&amp;#039\;s Club\, Inc.
REFRESH-INTERVAL;VALUE=DURATION:PT1440M
X-PUBLISHED-TTL:PT1440M
BEGIN:VTIMEZONE
TZID:Etc/GMT+5
BEGIN:STANDARD
DTSTART:20221003T000000Z
TZOFFSETFROM:-0500
TZOFFSETTO:-0500
END:STANDARD
END:VTIMEZONE
BEGIN:VTIMEZONE
TZID:UTC
BEGIN:STANDARD
DTSTART:20250729T103720Z
TZOFFSETFROM:+0000
TZOFFSETTO:+0000
END:STANDARD
END:VTIMEZONE
BEGIN:VEVENT
UID:10385-1279
DTSTAMP:20260425T103720Z
SUMMARY:2023 Membership Renewal Final Deadline
LOCATION:
ORGANIZER;CN=Alan Martin:MAILTO:amartin.ma.ultranet@rcn.com
DTSTART;TZID=Etc/GMT+5;VALUE=DATE:20230630
DTEND;TZID=Etc/GMT+5;VALUE=DATE:20230701
X-ALT-DESC;FMTTYPE=TEXT/HTML:If you haven't paid your 2023 dues by now\, to
 day is your last chance to renew without undergoing the entire new member 
 interview process\, including the $180 initiation fee. (And you've owed a 
 $25 late payment fee since March). Contact the Membership Secretary to ren
 ew.
CATEGORIES:Administration
URL;VALUE=URI:
METHOD:PUBLISH
END:VEVENT
END:VCALENDAR