BEGIN:VCALENDAR
VERSION:2.0
PRODID:spatie/icalendar-generator
DESCRIPTION:Events from Westford Sportsmen&amp;#039\;s Club\, Inc.
X-WR-CALDESC:Events from Westford Sportsmen&amp;#039\;s Club\, Inc.
REFRESH-INTERVAL;VALUE=DURATION:PT1440M
X-PUBLISHED-TTL:PT1440M
BEGIN:VTIMEZONE
TZID:Etc/GMT+5
BEGIN:STANDARD
DTSTART:20220603T000000Z
TZOFFSETFROM:-0500
TZOFFSETTO:-0500
END:STANDARD
END:VTIMEZONE
BEGIN:VTIMEZONE
TZID:UTC
BEGIN:STANDARD
DTSTART:20250729T104805Z
TZOFFSETFROM:+0000
TZOFFSETTO:+0000
END:STANDARD
END:VTIMEZONE
BEGIN:VEVENT
UID:10383-1277
DTSTAMP:20260425T104805Z
SUMMARY:Membership late fee deadline
LOCATION:
ORGANIZER;CN=Alan Martin:MAILTO:amartin.ma.ultranet@rcn.com
DTSTART;TZID=Etc/GMT+5;VALUE=DATE:20230228
DTEND;TZID=Etc/GMT+5;VALUE=DATE:20230301
X-ALT-DESC;FMTTYPE=TEXT/HTML:Renew your membership by the end of the day to
  avoid a $25.00 late fee.
CATEGORIES:Administration
URL;VALUE=URI:
METHOD:PUBLISH
END:VEVENT
END:VCALENDAR